BEGIN:VCALENDAR
VERSION:2.0
PRODID:-//GCJZ - ECPv6.15.20//NONSGML v1.0//EN
CALSCALE:GREGORIAN
METHOD:PUBLISH
X-WR-CALNAME:GCJZ
X-ORIGINAL-URL:https://gcjz-dortmund.de
X-WR-CALDESC:Veranstaltungen für GCJZ
REFRESH-INTERVAL;VALUE=DURATION:PT1H
X-Robots-Tag:noindex
X-PUBLISHED-TTL:PT1H
BEGIN:VTIMEZONE
TZID:Europe/Berlin
BEGIN:DAYLIGHT
TZOFFSETFROM:+0100
TZOFFSETTO:+0200
TZNAME:CEST
DTSTART:20240331T010000
END:DAYLIGHT
BEGIN:STANDARD
TZOFFSETFROM:+0200
TZOFFSETTO:+0100
TZNAME:CET
DTSTART:20241027T010000
END:STANDARD
BEGIN:DAYLIGHT
TZOFFSETFROM:+0100
TZOFFSETTO:+0200
TZNAME:CEST
DTSTART:20250330T010000
END:DAYLIGHT
BEGIN:STANDARD
TZOFFSETFROM:+0200
TZOFFSETTO:+0100
TZNAME:CET
DTSTART:20251026T010000
END:STANDARD
BEGIN:DAYLIGHT
TZOFFSETFROM:+0100
TZOFFSETTO:+0200
TZNAME:CEST
DTSTART:20260329T010000
END:DAYLIGHT
BEGIN:STANDARD
TZOFFSETFROM:+0200
TZOFFSETTO:+0100
TZNAME:CET
DTSTART:20261025T010000
END:STANDARD
END:VTIMEZONE
BEGIN:VEVENT
DTSTART;VALUE=DATE:20250228
DTEND;VALUE=DATE:20250304
DTSTAMP:20260425T122332
CREATED:20240626T145407Z
LAST-MODIFIED:20240815T123114Z
UID:1458-1740700800-1741046399@gcjz-dortmund.de
SUMMARY:Studienreise Mechelen – Brügge – Gent
DESCRIPTION:Flandern ist die nördlichste Region Belgiens und grenzt an die Niederlande und die Nordseeküste. Die Flämische Region hat eine Vielzahl an historischen Orten\, Naturschönheiten und Kulturerbe. Das Ortsbild von Mechelen ist geprägt von verwinkelten Gassen mit Kopfsteinpflaster und Renaissancegebäuden\, von denen rund 300 unter Denkmalschutz stehen. Als einzige belgische Stadt ist sie gleich vier Mal auf der Liste des UNESCO-Weltkulturerbe zu finden. Auch Brügge und Gent faszinieren die Besucher:innen mit ihren malerische Grachten gesäumt von urigen Cafés und Wohnhäusern mit beeindruckenden Backsteinfassaden. Die jüdische Geschichte reicht in Flandern bis in die Antike zurück. Während des Holocausts wurde ein Drittel der ca. 75.000 belgischen Juden inhaftiert\, im Fort Breendonk festgehalten und anschließend in Konzentrationslager deportiert – heutzutage widmet sich die ehemalige Festung diesem Thema als Gedenkstätte und Mahnmal. Gegenwärtig leben wieder etwa 45.000 Juden in Belgien\, ein Großteil davon in Antwerpen. \nWeitere Informationen bei Norena Kunter (0231-8380048): kunter@auslandsgesellschaft.de \nLeitung: Gerda E.H. Koch und Paul Blätgen \nPreis: 650 Euro\, EZ-Zuschlag: 165 Euro \nProgramm \n\n\n\n\n\n\nMindestteilnehmerzahl: 22; Anmeldefrist: 27. September 2024\n\n© Pixabay
URL:https://gcjz-dortmund.de/veranstaltung/studienreise-mechelen-bruegge-gent/
LOCATION:Reise
CATEGORIES:Studienreise
ATTACH;FMTTYPE=image/jpeg:https://gcjz-dortmund.de/wp-content/uploads/2024/06/tower-2611573_1280-e1719502753384.jpg
END:VEVENT
END:VCALENDAR