BEGIN:VCALENDAR
VERSION:2.0
PRODID:-//GCJZ - ECPv6.15.20//NONSGML v1.0//EN
CALSCALE:GREGORIAN
METHOD:PUBLISH
X-WR-CALNAME:GCJZ
X-ORIGINAL-URL:https://gcjz-dortmund.de
X-WR-CALDESC:Veranstaltungen für GCJZ
REFRESH-INTERVAL;VALUE=DURATION:PT1H
X-Robots-Tag:noindex
X-PUBLISHED-TTL:PT1H
BEGIN:VTIMEZONE
TZID:Europe/Berlin
BEGIN:DAYLIGHT
TZOFFSETFROM:+0100
TZOFFSETTO:+0200
TZNAME:CEST
DTSTART:20240331T010000
END:DAYLIGHT
BEGIN:STANDARD
TZOFFSETFROM:+0200
TZOFFSETTO:+0100
TZNAME:CET
DTSTART:20241027T010000
END:STANDARD
BEGIN:DAYLIGHT
TZOFFSETFROM:+0100
TZOFFSETTO:+0200
TZNAME:CEST
DTSTART:20250330T010000
END:DAYLIGHT
BEGIN:STANDARD
TZOFFSETFROM:+0200
TZOFFSETTO:+0100
TZNAME:CET
DTSTART:20251026T010000
END:STANDARD
BEGIN:DAYLIGHT
TZOFFSETFROM:+0100
TZOFFSETTO:+0200
TZNAME:CEST
DTSTART:20260329T010000
END:DAYLIGHT
BEGIN:STANDARD
TZOFFSETFROM:+0200
TZOFFSETTO:+0100
TZNAME:CET
DTSTART:20261025T010000
END:STANDARD
END:VTIMEZONE
BEGIN:VEVENT
DTSTART;VALUE=DATE:20250316
DTEND;VALUE=DATE:20250518
DTSTAMP:20260423T122505
CREATED:20250224T095402Z
LAST-MODIFIED:20250224T095844Z
UID:1790-1742083200-1747526399@gcjz-dortmund.de
SUMMARY:Woche der Begegnung mit dem Judentum in Hamm
DESCRIPTION:Vor 40 Jahren fand in Hamm die erste „Woche der Brüderlichkeit“ statt. Seit 1985 setzt sich der Arbeitskreis Woche der Brüderlichkeit (Evangelischer Kirchenkreis Hamm\, Katholische Dekanate für Hamm\, Stadt Hamm) in Hamm für ein vertieftes Verständnis des Judentums in Vergangenheit und Gegenwart sowie für die Förderung des christlich-jüdischen Dialogs ein. Mittlerweile wurde der Name der Veranstaltungsreihe geändert in „Woche der Begegnung mit dem Judentum“. Die GCJZ Dortmund e.V. war von Beginn an Mitveranstalterin – herzliche Einladung zur Teilnahme! \n\n16. März\, 11 Uhr\, Pauluskirche: Gottesdienst zur Eröffnung der 41. Woche der Begegnung mit dem Judentum\, u.a. mit Rabbiner Prof. Dr. Andreas Nachama\n16. März\, 17 Uhr\, Heinrich-von-Kleist-Forum (Platz der deutschen Einheit 1): Vortrag von Rabbiner Prof. Dr. Andreas Nachama: „‚Füreinander streiten!‘ Streitkultur als Grundlage jüdischer Sichten auf Bibel und Talmud“\n19. März\, 17.30 Uhr und 19.45 Uhr\, VHS-Kino im Cineplex Hamm (Königsstr. 16): Film „Der verschwundene Soldat“ (Israel 2023)\, Regie und Drehbuch: Dani Rosenberg\n20. März\, 19.30 Uhr\, VHS (Platz der deutschen Einheit 1): Lesung mit Gerhard Haase-Hindenberg „Ich bin noch nie einem Juden begegnet“ (Edition Körber 2021)\, Moderation Marco Düsterwald\n22. April\, 18 Uhr\, Technisches Rathaus (Gustav-Heinemannn-Str. 10\, Raum A3.005): Vortrag mit Kathrin Grimm „Ein Jahr in Warschau – mein Freiwilligendienst mit der Aktion Sühnezeichen Friedensdienste“\n17. Mai\, 15-17 Uhr\, Mit Kinderaugen betrachtet… Stadtrundgang auf den Spuren jüdischen Lebens in Hamm mit Lucia Farenholtz\, Wolfgang Komo und Dr. Markus Meinold. Treffpunkt: Denkmal für die Synagoge/Santa-Monica-Platz). Anmeldung unter 02381-175600 oder www.vhshamm.de\n\nDas vollständige Programm gibt es hier: Faltblatt_2025_Hamm. \n© Arbeitskreis Woche der Begegnung mit dem Judentum Hamm
URL:https://gcjz-dortmund.de/veranstaltung/woche-der-begegnung-mit-dem-judentum-in-hamm/
LOCATION:Hamm
CATEGORIES:Veranstaltungsreihe
ATTACH;FMTTYPE=image/png:https://gcjz-dortmund.de/wp-content/uploads/2025/02/Bildschirmfoto-2025-02-24-um-10.29.04.png
END:VEVENT
END:VCALENDAR