BEGIN:VCALENDAR
VERSION:2.0
PRODID:-//GCJZ - ECPv6.15.20//NONSGML v1.0//EN
CALSCALE:GREGORIAN
METHOD:PUBLISH
X-ORIGINAL-URL:https://gcjz-dortmund.de
X-WR-CALDESC:Veranstaltungen für GCJZ
REFRESH-INTERVAL;VALUE=DURATION:PT1H
X-Robots-Tag:noindex
X-PUBLISHED-TTL:PT1H
BEGIN:VTIMEZONE
TZID:Europe/Berlin
BEGIN:DAYLIGHT
TZOFFSETFROM:+0100
TZOFFSETTO:+0200
TZNAME:CEST
DTSTART:20240331T010000
END:DAYLIGHT
BEGIN:STANDARD
TZOFFSETFROM:+0200
TZOFFSETTO:+0100
TZNAME:CET
DTSTART:20241027T010000
END:STANDARD
BEGIN:DAYLIGHT
TZOFFSETFROM:+0100
TZOFFSETTO:+0200
TZNAME:CEST
DTSTART:20250330T010000
END:DAYLIGHT
BEGIN:STANDARD
TZOFFSETFROM:+0200
TZOFFSETTO:+0100
TZNAME:CET
DTSTART:20251026T010000
END:STANDARD
BEGIN:DAYLIGHT
TZOFFSETFROM:+0100
TZOFFSETTO:+0200
TZNAME:CEST
DTSTART:20260329T010000
END:DAYLIGHT
BEGIN:STANDARD
TZOFFSETFROM:+0200
TZOFFSETTO:+0100
TZNAME:CET
DTSTART:20261025T010000
END:STANDARD
END:VTIMEZONE
BEGIN:VEVENT
DTSTART;VALUE=DATE:20250812
DTEND;VALUE=DATE:20250824
DTSTAMP:20260421T180028
CREATED:20241209T092536Z
LAST-MODIFIED:20241209T093609Z
UID:1686-1754956800-1755993599@gcjz-dortmund.de
SUMMARY:Studienreise Polen – Litauen – Lettland
DESCRIPTION:…auf kulturellen\, historisch-politischen und jüdischen Spuren: In Polen Rundfahrt durch die Masurischen Seenplatte und Besuch der Betontrümmer und Bunkerrelikte der „Wolfsschanze“\, Hitlers Hauptquartier im Zweiten Weltkrieg\, berühmt geworden durch das (missglückte) Attentat am 20. Juli 1944. Zwischenstopp im lettischen Kaunas\, das mit 37 % jüdischer Einwohner:innen vor dem Holocaust eine sehr große jüdische Gemeinde hatte. Die ehemalige Hansestadt Riga glänzt mit ihrer Jugendstilarchitektur\, bietet darüber hinaus Sehenswürdigkeiten aus früheren Jahrhunderten und zeigt sich heute als moderne\, weltoffene europäische Stadt. Die wechselvolle Geschichte Rigas zwischen West und Ost erreichte ihren traurigen Höhepunkt während der NS-Zeit. Riga war Ziel mehrerer großer Deportationszüge vor allem aus dem Ruhrgebiet und wurde für die meisten Jüdinnen und Juden zum Todesort. Zahlreiche Gedenkorte erinnern an ihr Schicksal und auch das der 44.000 Rigaer Juden. Rückfahrt mit der Fähre bis Travemünde. \nWeitere Informationen bei Norena Kunter (0231-8380048 / kunter@auslandsgesellschaft.de). \nLeitung: Gerda E.H. Koch\, Roswitha Killinger\, Paul Blätgen \nPreis: 1.865 Euro (EZ-Zuschlag 420 Euro) \nProgramm \nMindestteilnehmerzahl: 23\, Anmeldeschluss: 6. Juni 2025 \nFoto: Masuren © Pixabay
URL:https://gcjz-dortmund.de/veranstaltung/studienreise-polen-litauen-lettland/
LOCATION:Reise
CATEGORIES:Studienreise
ATTACH;FMTTYPE=image/jpeg:https://gcjz-dortmund.de/wp-content/uploads/2024/12/view-2069253_1280.jpg
END:VEVENT
END:VCALENDAR