BEGIN:VCALENDAR
VERSION:2.0
PRODID:-//GCJZ - ECPv6.15.20//NONSGML v1.0//EN
CALSCALE:GREGORIAN
METHOD:PUBLISH
X-ORIGINAL-URL:https://gcjz-dortmund.de
X-WR-CALDESC:Veranstaltungen für GCJZ
REFRESH-INTERVAL;VALUE=DURATION:PT1H
X-Robots-Tag:noindex
X-PUBLISHED-TTL:PT1H
BEGIN:VTIMEZONE
TZID:Europe/Berlin
BEGIN:DAYLIGHT
TZOFFSETFROM:+0100
TZOFFSETTO:+0200
TZNAME:CEST
DTSTART:20240331T010000
END:DAYLIGHT
BEGIN:STANDARD
TZOFFSETFROM:+0200
TZOFFSETTO:+0100
TZNAME:CET
DTSTART:20241027T010000
END:STANDARD
BEGIN:DAYLIGHT
TZOFFSETFROM:+0100
TZOFFSETTO:+0200
TZNAME:CEST
DTSTART:20250330T010000
END:DAYLIGHT
BEGIN:STANDARD
TZOFFSETFROM:+0200
TZOFFSETTO:+0100
TZNAME:CET
DTSTART:20251026T010000
END:STANDARD
BEGIN:DAYLIGHT
TZOFFSETFROM:+0100
TZOFFSETTO:+0200
TZNAME:CEST
DTSTART:20260329T010000
END:DAYLIGHT
BEGIN:STANDARD
TZOFFSETFROM:+0200
TZOFFSETTO:+0100
TZNAME:CET
DTSTART:20261025T010000
END:STANDARD
END:VTIMEZONE
BEGIN:VEVENT
DTSTART;VALUE=DATE:20251001
DTEND;VALUE=DATE:20251011
DTSTAMP:20260421T150615
CREATED:20241209T093230Z
LAST-MODIFIED:20250408T153956Z
UID:1689-1759276800-1760140799@gcjz-dortmund.de
SUMMARY:Siebenbürgen – Plattensee – Passau
DESCRIPTION:Siebenbürgen – auch Transsylvanien genannt – liegt im Zentrum Rumäniens inmitten der Karpaten. Über 160 Kirchenburgen schmücken die Region. Sibiu (Hermannstadt) wurde im Mittelalter von Kolonist:innen aus der Rhein- und Moselregion gegründet\, sodass noch im Jahr 1930 mehrheitlich deutsche Einwohner:innen\, darunter ca. 1.300 deutsch-sprachige Jüdinnen und Juden dort lebten. Während des Holocausts gab es in Sibiu zwar keine Deportationen\, aber viele jüdische Opfer und jüdische Männer wurden in Arbeitslagern untergebracht und zum Straßenbau eingesetzt. \nDie nächste Etappe ist der Balaton (Plattensee) im Westen Ungarns – der größte Süßwassersee Europas. Die Geschichte der jüdischen Gemeinde in Balatonfüred reicht bis ins 18. Jh. zurück. 1944 wurden viele der jüdischen Bürger:innen über das Ghetto Tapolca und Zalaegerszeg in das Vernichtungslager Auschwitz deportiert. \nIn Passau wurden Jüdinnen und Juden erstmals um 900 u. Z. erwähnt. 1478 wurden sie vertrieben\, die Synagoge abgerissen und anschließend die Kirche St. Salvator an dieser Stelle errichtet. \nWeitere Informationen bei Norena Kunter (0231-8380048 / kunter@auslandsgesellschaft.de). \nLeitung: Gerda E.H. Koch\, Roswitha Killinger\, Paul Blätgen \nPreis: 2.040 Euro (EZ-Zuschlag 310 Euro) \nProgramm \nMindestteilnehmerzahl: 20\, Anmeldeschluss: 18. Juli 2025 \nFoto: Sibiu © Pixabay
URL:https://gcjz-dortmund.de/veranstaltung/siebenbuergen-plattensee-passau/
LOCATION:Reise
CATEGORIES:Studienreise
ATTACH;FMTTYPE=image/jpeg:https://gcjz-dortmund.de/wp-content/uploads/2024/12/sibiu-1540549_1280.jpg
END:VEVENT
END:VCALENDAR