BEGIN:VCALENDAR
VERSION:2.0
PRODID:-//GCJZ - ECPv6.15.20//NONSGML v1.0//EN
CALSCALE:GREGORIAN
METHOD:PUBLISH
X-WR-CALNAME:GCJZ
X-ORIGINAL-URL:https://gcjz-dortmund.de
X-WR-CALDESC:Veranstaltungen für GCJZ
REFRESH-INTERVAL;VALUE=DURATION:PT1H
X-Robots-Tag:noindex
X-PUBLISHED-TTL:PT1H
BEGIN:VTIMEZONE
TZID:Europe/Berlin
BEGIN:DAYLIGHT
TZOFFSETFROM:+0100
TZOFFSETTO:+0200
TZNAME:CEST
DTSTART:20240331T010000
END:DAYLIGHT
BEGIN:STANDARD
TZOFFSETFROM:+0200
TZOFFSETTO:+0100
TZNAME:CET
DTSTART:20241027T010000
END:STANDARD
BEGIN:DAYLIGHT
TZOFFSETFROM:+0100
TZOFFSETTO:+0200
TZNAME:CEST
DTSTART:20250330T010000
END:DAYLIGHT
BEGIN:STANDARD
TZOFFSETFROM:+0200
TZOFFSETTO:+0100
TZNAME:CET
DTSTART:20251026T010000
END:STANDARD
BEGIN:DAYLIGHT
TZOFFSETFROM:+0100
TZOFFSETTO:+0200
TZNAME:CEST
DTSTART:20260329T010000
END:DAYLIGHT
BEGIN:STANDARD
TZOFFSETFROM:+0200
TZOFFSETTO:+0100
TZNAME:CET
DTSTART:20261025T010000
END:STANDARD
END:VTIMEZONE
BEGIN:VEVENT
DTSTART;TZID=Europe/Berlin:20251104T170000
DTEND;TZID=Europe/Berlin:20251104T191500
DTSTAMP:20260421T134016
CREATED:20250821T135104Z
LAST-MODIFIED:20251030T162835Z
UID:1996-1762275600-1762283700@gcjz-dortmund.de
SUMMARY:Yad le shalom – Die Hand des Friedens
DESCRIPTION:Israelische Volkstänze sind eine Synthese aus jüdischen und nichtjüdischen Volkstanzelementen. Nach der Gründung des israelischen Staates brachten die Zuwanderer Elemente aus ihren Emigrationsländern mit. So mischten sich slawische und sephardische sowie lokale und jüdische Elemente. Israelische Volkstänze sind eine gute Möglichkeit\, lebendiges Judentum kennenzulernen. Sie lassen sich relativ schnell in kleinen und großen Gruppen erlernen. \nEintritt frei \nAnmeldung: www.ev-kirche-dortmund.de \nReferentin: Marina Evel \nLeitung: Ina Annette Bierbrodt\, Evangelisches Schulreferat \nMax. 20 Personen \nBitte Personalausweis mitbringen. \n© GCJZ Dortmund
URL:https://gcjz-dortmund.de/veranstaltung/yad-le-shalom-die-hand-des-friedens-2/
LOCATION:Jüdische Kultusgemeinde\, Prinz-Friedrich-Karl-Str. 9\, Dortmund\, 44135
CATEGORIES:Workshop
ATTACH;FMTTYPE=image/jpeg:https://gcjz-dortmund.de/wp-content/uploads/2024/07/1105_Tanzen-scaled.jpeg
END:VEVENT
END:VCALENDAR