BEGIN:VCALENDAR
VERSION:2.0
PRODID:-//GCJZ - ECPv6.15.20//NONSGML v1.0//EN
CALSCALE:GREGORIAN
METHOD:PUBLISH
X-WR-CALNAME:GCJZ
X-ORIGINAL-URL:https://gcjz-dortmund.de
X-WR-CALDESC:Veranstaltungen für GCJZ
REFRESH-INTERVAL;VALUE=DURATION:PT1H
X-Robots-Tag:noindex
X-PUBLISHED-TTL:PT1H
BEGIN:VTIMEZONE
TZID:Europe/Berlin
BEGIN:DAYLIGHT
TZOFFSETFROM:+0100
TZOFFSETTO:+0200
TZNAME:CEST
DTSTART:20240331T010000
END:DAYLIGHT
BEGIN:STANDARD
TZOFFSETFROM:+0200
TZOFFSETTO:+0100
TZNAME:CET
DTSTART:20241027T010000
END:STANDARD
BEGIN:DAYLIGHT
TZOFFSETFROM:+0100
TZOFFSETTO:+0200
TZNAME:CEST
DTSTART:20250330T010000
END:DAYLIGHT
BEGIN:STANDARD
TZOFFSETFROM:+0200
TZOFFSETTO:+0100
TZNAME:CET
DTSTART:20251026T010000
END:STANDARD
BEGIN:DAYLIGHT
TZOFFSETFROM:+0100
TZOFFSETTO:+0200
TZNAME:CEST
DTSTART:20260329T010000
END:DAYLIGHT
BEGIN:STANDARD
TZOFFSETFROM:+0200
TZOFFSETTO:+0100
TZNAME:CET
DTSTART:20261025T010000
END:STANDARD
END:VTIMEZONE
BEGIN:VEVENT
DTSTART;TZID=Europe/Berlin:20251109T170000
DTEND;TZID=Europe/Berlin:20251109T183000
DTSTAMP:20260421T134054
CREATED:20250821T135632Z
LAST-MODIFIED:20251030T161759Z
UID:1998-1762707600-1762713000@gcjz-dortmund.de
SUMMARY:„... und ich will euch einen Ort und einen Namen geben\, auf dass ihr niemals vergessen werdet.“
DESCRIPTION:Die Pogromnacht am 9. November 1938\, in der Synagogen angezündet\, jüdische Geschäfte geplündert und Jüdinnen und Juden gedemütigt und getötet wurden\, steht beispielhaft für das Leid\, das Jüdinnen und Juden im Nationalsozialismus und in der Schoah zugefügt wurde\, auch in Dortmund. Im Ökumenischen Gedenken wollen wir an die jüdischen Gemeinden in Dortmund erinnern und darauf schauen\, was wir heute im Angesicht von Judenhass tun können. In diesem Jahr beginnt das Gedenken mit einem Gang zu den nahegelegenen Stolpersteinen der Familie Bischofswerder und von Hugo Cohen. Mit Schüler:innen des Käthe-Kollwitz-Gymnasiums. Musik: Franziska und Emanuel Matz (Cello). \n\n\n\n\n© Stadtarchiv Dortmund
URL:https://gcjz-dortmund.de/veranstaltung/und-ich-will-euch-einen-ort-und-einen-namen-geben-auf-dass-ihr-niemals-vergessen-werdet/
LOCATION:Sankt Petri\, Petrikirchhof\, Dortmund\, 44137
CATEGORIES:Gedenken
ATTACH;FMTTYPE=image/jpeg:https://gcjz-dortmund.de/wp-content/uploads/2025/08/251109-Synagoge_Dortmund_-1938-Copyright-Stadtarchiv.jpeg
END:VEVENT
BEGIN:VEVENT
DTSTART;TZID=Europe/Berlin:20251112T180000
DTEND;TZID=Europe/Berlin:20251112T180000
DTSTAMP:20260421T134054
CREATED:20251028T131440Z
LAST-MODIFIED:20251028T131440Z
UID:2090-1762970400-1762970400@gcjz-dortmund.de
SUMMARY:„Entweder… oder?“ Komödie von Jean-Claude Grumberg
DESCRIPTION:Jean-Claude Grumberg\, einer der wichtigsten französisch-jüdischen Dramatiker\, bringt im Theaterstück „Entweder … Oder“ die großen Fragen der Geschichte in einen kleinen\, alltäglichen Raum: Was passiert\, wenn Vergangenheit plötzlich ins Heute platzt – und niemand vorbereitet ist? Mit bissigem Humor und tiefem Ernst erzählt das Stück von zwei Menschen\, die aufeinandertreffen und in einem absurden Gespräch ihre Lebenswelten gegeneinander abgleichen – und am Ende mehr miteinander teilen\, als ihnen lieb ist. Grumbergs Sprache ist leicht und scharf zugleich\, sein Humor entlarvend und zärtlich. „Entweder … Oder“ ist ein Stück über Erinnerung\, Verantwortung – und die Frage\, was uns eigentlich verbindet\, wenn uns alles zu trennen scheint. \n\nEintritt frei. Anmeldung unter konzert@jg-dortmund.de – bitte Personalausweis mitbringen. \n\n\n\n\n© rimon productions
URL:https://gcjz-dortmund.de/veranstaltung/entweder-oder-komoedie-von-jean-claude-grumberg/
LOCATION:Jüdische Kultusgemeinde\, Prinz-Friedrich-Karl-Str. 9\, Dortmund\, 44135
CATEGORIES:Theater
ATTACH;FMTTYPE=image/jpeg:https://gcjz-dortmund.de/wp-content/uploads/2025/10/569385224_1248862663952725_6532628314760611668_n.jpg
END:VEVENT
END:VCALENDAR