BEGIN:VCALENDAR
VERSION:2.0
PRODID:-//GCJZ - ECPv6.15.20//NONSGML v1.0//EN
CALSCALE:GREGORIAN
METHOD:PUBLISH
X-ORIGINAL-URL:https://gcjz-dortmund.de
X-WR-CALDESC:Veranstaltungen für GCJZ
REFRESH-INTERVAL;VALUE=DURATION:PT1H
X-Robots-Tag:noindex
X-PUBLISHED-TTL:PT1H
BEGIN:VTIMEZONE
TZID:Europe/Berlin
BEGIN:DAYLIGHT
TZOFFSETFROM:+0100
TZOFFSETTO:+0200
TZNAME:CEST
DTSTART:20240331T010000
END:DAYLIGHT
BEGIN:STANDARD
TZOFFSETFROM:+0200
TZOFFSETTO:+0100
TZNAME:CET
DTSTART:20241027T010000
END:STANDARD
BEGIN:DAYLIGHT
TZOFFSETFROM:+0100
TZOFFSETTO:+0200
TZNAME:CEST
DTSTART:20250330T010000
END:DAYLIGHT
BEGIN:STANDARD
TZOFFSETFROM:+0200
TZOFFSETTO:+0100
TZNAME:CET
DTSTART:20251026T010000
END:STANDARD
BEGIN:DAYLIGHT
TZOFFSETFROM:+0100
TZOFFSETTO:+0200
TZNAME:CEST
DTSTART:20260329T010000
END:DAYLIGHT
BEGIN:STANDARD
TZOFFSETFROM:+0200
TZOFFSETTO:+0100
TZNAME:CET
DTSTART:20261025T010000
END:STANDARD
END:VTIMEZONE
BEGIN:VEVENT
DTSTART;TZID=Europe/Berlin:20251221T180000
DTEND;TZID=Europe/Berlin:20251221T180000
DTSTAMP:20260420T032846
CREATED:20241209T094240Z
LAST-MODIFIED:20251127T191003Z
UID:1697-1766340000-1766340000@gcjz-dortmund.de
SUMMARY:Chanukka-Feier am Phoenix-See
DESCRIPTION:Die Jüdische Gemeinde lädt am Sonntag\, 21. Dezember\, 18 Uhr zum feierlichem Anzünden der Chanukka-Kerzen auf die Kulturinsel im Phoenix-See ein. Es wird Live-Musik\, koscheren Glühwein und Kinderpunsch sowie traditionelle Süßigkeiten geben. Vielen Dank für die Gastfreundschaft! \n© GCJZ Dortmund
URL:https://gcjz-dortmund.de/veranstaltung/chanukka-feier-am-phoenix-see-2/
LOCATION:Kulturinsel Phoenixsee\, Kulturinsel Phoenixsee\, Dortmund\, 44263
CATEGORIES:Chanukka-Feier
ATTACH;FMTTYPE=image/jpeg:https://gcjz-dortmund.de/wp-content/uploads/2023/07/Chanukka_am_Phoenixsee_2022.jpg
END:VEVENT
END:VCALENDAR