BEGIN:VCALENDAR
VERSION:2.0
PRODID:-//GCJZ - ECPv6.15.20//NONSGML v1.0//EN
CALSCALE:GREGORIAN
METHOD:PUBLISH
X-WR-CALNAME:GCJZ
X-ORIGINAL-URL:https://gcjz-dortmund.de
X-WR-CALDESC:Veranstaltungen für GCJZ
REFRESH-INTERVAL;VALUE=DURATION:PT1H
X-Robots-Tag:noindex
X-PUBLISHED-TTL:PT1H
BEGIN:VTIMEZONE
TZID:Europe/Berlin
BEGIN:DAYLIGHT
TZOFFSETFROM:+0100
TZOFFSETTO:+0200
TZNAME:CEST
DTSTART:20250330T010000
END:DAYLIGHT
BEGIN:STANDARD
TZOFFSETFROM:+0200
TZOFFSETTO:+0100
TZNAME:CET
DTSTART:20251026T010000
END:STANDARD
BEGIN:DAYLIGHT
TZOFFSETFROM:+0100
TZOFFSETTO:+0200
TZNAME:CEST
DTSTART:20260329T010000
END:DAYLIGHT
BEGIN:STANDARD
TZOFFSETFROM:+0200
TZOFFSETTO:+0100
TZNAME:CET
DTSTART:20261025T010000
END:STANDARD
BEGIN:DAYLIGHT
TZOFFSETFROM:+0100
TZOFFSETTO:+0200
TZNAME:CEST
DTSTART:20270328T010000
END:DAYLIGHT
BEGIN:STANDARD
TZOFFSETFROM:+0200
TZOFFSETTO:+0100
TZNAME:CET
DTSTART:20271031T010000
END:STANDARD
END:VTIMEZONE
BEGIN:VEVENT
DTSTART;TZID=Europe/Berlin:20260512T160000
DTEND;TZID=Europe/Berlin:20260512T173000
DTSTAMP:20260424T122205
CREATED:20260105T155324Z
LAST-MODIFIED:20260420T104832Z
UID:2125-1778601600-1778607000@gcjz-dortmund.de
SUMMARY:Rundgang Jüdisches Dortmund
DESCRIPTION:Hinweis: Wegen Krankheit musste der Rundgang verschoben werden. \nDie StadtPilgerTour nimmt in Kooperation mit der GCJZ sowohl die Geschichte jüdischen Lebens in Dortmund in den Blick als auch jüdisches Leben heute. Dabei sind Jüdinnen und Juden in ihrem Alltag weiterhin antisemitischen Anfeindungen ausgesetzt. Am Entstehen des Antisemitismus wiederum hatten die Kirchen einen großen Anteil. Es soll daher auch darum gehen\, christliche antijüdische Denktraditionen zu hinterfragen und zu schauen\, was wir dem entgegensetzen können. Der Rundgang beginnt an der Ev. Stadtkirche Sankt Petri und endet nach etwa 1\,5 h an der Kaiserstraße. \nRuth Nientiedt ist Geschäftsführerin der GCJZ Dortmund e.V. und Wissenschaftliche Mitarbeiterin am Alt-Katholischen Seminar der Universität Bonn. Die Teilnahme ist kostenfrei. \nAnmeldung: 0231-22962-401 / bildungswerk@ekkdo.de / www.bwdo.de (Veranstaltung E261-C005) \n© privat
URL:https://gcjz-dortmund.de/veranstaltung/rundgang-juedisches-dortmund-2/
LOCATION:Sankt Petri\, Petrikirchhof\, Dortmund\, 44137
CATEGORIES:Rundgang
ATTACH;FMTTYPE=image/jpeg:https://gcjz-dortmund.de/wp-content/uploads/2023/07/Nientiedt-Kopie-scaled.jpeg
END:VEVENT
END:VCALENDAR