BEGIN:VCALENDAR
VERSION:2.0
PRODID:-//GCJZ - ECPv6.15.20//NONSGML v1.0//EN
CALSCALE:GREGORIAN
METHOD:PUBLISH
X-WR-CALNAME:GCJZ
X-ORIGINAL-URL:https://gcjz-dortmund.de
X-WR-CALDESC:Veranstaltungen für GCJZ
REFRESH-INTERVAL;VALUE=DURATION:PT1H
X-Robots-Tag:noindex
X-PUBLISHED-TTL:PT1H
BEGIN:VTIMEZONE
TZID:Europe/Berlin
BEGIN:DAYLIGHT
TZOFFSETFROM:+0100
TZOFFSETTO:+0200
TZNAME:CEST
DTSTART:20250330T010000
END:DAYLIGHT
BEGIN:STANDARD
TZOFFSETFROM:+0200
TZOFFSETTO:+0100
TZNAME:CET
DTSTART:20251026T010000
END:STANDARD
BEGIN:DAYLIGHT
TZOFFSETFROM:+0100
TZOFFSETTO:+0200
TZNAME:CEST
DTSTART:20260329T010000
END:DAYLIGHT
BEGIN:STANDARD
TZOFFSETFROM:+0200
TZOFFSETTO:+0100
TZNAME:CET
DTSTART:20261025T010000
END:STANDARD
BEGIN:DAYLIGHT
TZOFFSETFROM:+0100
TZOFFSETTO:+0200
TZNAME:CEST
DTSTART:20270328T010000
END:DAYLIGHT
BEGIN:STANDARD
TZOFFSETFROM:+0200
TZOFFSETTO:+0100
TZNAME:CET
DTSTART:20271031T010000
END:STANDARD
END:VTIMEZONE
BEGIN:VEVENT
DTSTART;TZID=Europe/Berlin:20260528T183000
DTEND;TZID=Europe/Berlin:20260528T203000
DTSTAMP:20260419T232117
CREATED:20260311T180112Z
LAST-MODIFIED:20260311T180144Z
UID:2184-1779993000-1780000200@gcjz-dortmund.de
SUMMARY:Mitgliederversammlung
DESCRIPTION:Die diesjährige ordentliche Mitgliederversammlung findet am 28. Mai statt. Die Einladung wird den Mitgliedern rechtzeitig zugehen. Die Teilnahme als Gast ist möglich. Anmeldung erforderlich bis 22. Mai unter info@gcjz-dortmund.de \n© GCJZ Dortmund e.V.
URL:https://gcjz-dortmund.de/veranstaltung/mitgliederversammlung-2/
LOCATION:Jüdische Kultusgemeinde\, Prinz-Friedrich-Karl-Str. 9\, Dortmund\, 44135
CATEGORIES:Verein
ATTACH;FMTTYPE=image/jpeg:https://gcjz-dortmund.de/wp-content/uploads/2023/08/Blanko-Vorlage-dunkel.jpg
END:VEVENT
END:VCALENDAR