BEGIN:VCALENDAR
VERSION:2.0
PRODID:-//GCJZ - ECPv6.15.20//NONSGML v1.0//EN
CALSCALE:GREGORIAN
METHOD:PUBLISH
X-WR-CALNAME:GCJZ
X-ORIGINAL-URL:https://gcjz-dortmund.de
X-WR-CALDESC:Veranstaltungen für GCJZ
REFRESH-INTERVAL;VALUE=DURATION:PT1H
X-Robots-Tag:noindex
X-PUBLISHED-TTL:PT1H
BEGIN:VTIMEZONE
TZID:Europe/Berlin
BEGIN:DAYLIGHT
TZOFFSETFROM:+0100
TZOFFSETTO:+0200
TZNAME:CEST
DTSTART:20250330T010000
END:DAYLIGHT
BEGIN:STANDARD
TZOFFSETFROM:+0200
TZOFFSETTO:+0100
TZNAME:CET
DTSTART:20251026T010000
END:STANDARD
BEGIN:DAYLIGHT
TZOFFSETFROM:+0100
TZOFFSETTO:+0200
TZNAME:CEST
DTSTART:20260329T010000
END:DAYLIGHT
BEGIN:STANDARD
TZOFFSETFROM:+0200
TZOFFSETTO:+0100
TZNAME:CET
DTSTART:20261025T010000
END:STANDARD
BEGIN:DAYLIGHT
TZOFFSETFROM:+0100
TZOFFSETTO:+0200
TZNAME:CEST
DTSTART:20270328T010000
END:DAYLIGHT
BEGIN:STANDARD
TZOFFSETFROM:+0200
TZOFFSETTO:+0100
TZNAME:CET
DTSTART:20271031T010000
END:STANDARD
END:VTIMEZONE
BEGIN:VEVENT
DTSTART;TZID=Europe/Berlin:20260611T180000
DTEND;TZID=Europe/Berlin:20260611T193000
DTSTAMP:20260420T010033
CREATED:20260105T155709Z
LAST-MODIFIED:20260105T161444Z
UID:2127-1781200800-1781206200@gcjz-dortmund.de
SUMMARY:Der vergessene Widerstand
DESCRIPTION:Die Nationalsozialisten sahen für Menschen jüdischer Abstammung nur eine Rolle vor: die des passiven Opfers. Dass sich in Deutschland und den besetzten Gebieten zehntausende Jüdinnen und Juden aktiv gegen diese Zuschreibung wehrten\, ist bis heute kaum bekannt. Ihre vergessenen Geschichten hat Holocaust-Experte Stephan Lehnstaedt für dieses Buch zusammengetragen. Erstmals gibt er damit einen Überblick über die Aktivitäten des jüdischen Widerstands und erinnert an einen beispiellosen Kampf gegen die Entmenschlichung – ein Ringen um Würde\, Kultur und das Recht zu leben. \nStephan Lehnstaedt ist Professor für Holocaust- und Jüdische Studien an der Touro University Berlin. Der Eintritt ist frei. \n© C.H. Beck
URL:https://gcjz-dortmund.de/veranstaltung/der-vergessene-widerstand/
LOCATION:Stadtarchiv Dortmund\, Märkische Str. 14\, Dortmund\, 44135
CATEGORIES:Vortrag
ATTACH;FMTTYPE=image/jpeg:https://gcjz-dortmund.de/wp-content/uploads/2026/01/260611-ABB_LehnstaedtDervergesseneWid_978-3-406-83030-3_1A_Cover.jpg
END:VEVENT
END:VCALENDAR