BEGIN:VCALENDAR
VERSION:2.0
PRODID:-//GCJZ - ECPv6.15.20//NONSGML v1.0//EN
CALSCALE:GREGORIAN
METHOD:PUBLISH
X-ORIGINAL-URL:https://gcjz-dortmund.de
X-WR-CALDESC:Veranstaltungen für GCJZ
REFRESH-INTERVAL;VALUE=DURATION:PT1H
X-Robots-Tag:noindex
X-PUBLISHED-TTL:PT1H
BEGIN:VTIMEZONE
TZID:Europe/Berlin
BEGIN:DAYLIGHT
TZOFFSETFROM:+0100
TZOFFSETTO:+0200
TZNAME:CEST
DTSTART:20250330T010000
END:DAYLIGHT
BEGIN:STANDARD
TZOFFSETFROM:+0200
TZOFFSETTO:+0100
TZNAME:CET
DTSTART:20251026T010000
END:STANDARD
BEGIN:DAYLIGHT
TZOFFSETFROM:+0100
TZOFFSETTO:+0200
TZNAME:CEST
DTSTART:20260329T010000
END:DAYLIGHT
BEGIN:STANDARD
TZOFFSETFROM:+0200
TZOFFSETTO:+0100
TZNAME:CET
DTSTART:20261025T010000
END:STANDARD
BEGIN:DAYLIGHT
TZOFFSETFROM:+0100
TZOFFSETTO:+0200
TZNAME:CEST
DTSTART:20270328T010000
END:DAYLIGHT
BEGIN:STANDARD
TZOFFSETFROM:+0200
TZOFFSETTO:+0100
TZNAME:CET
DTSTART:20271031T010000
END:STANDARD
END:VTIMEZONE
BEGIN:VEVENT
DTSTART;TZID=Europe/Berlin:20260301T170000
DTEND;TZID=Europe/Berlin:20260301T183000
DTSTAMP:20260419T203816
CREATED:20250111T135839Z
LAST-MODIFIED:20260105T161702Z
UID:1731-1772384400-1772389800@gcjz-dortmund.de
SUMMARY:Konzert: Moderne jüdische Komponistinnen
DESCRIPTION:Nachholtermin: Die Werke moderner jüdischer Komponistinnen spiegeln Fragen und Themen der heutigen Welt wider und sind gekennzeichnet von einer tief verwurzelten europäischen Tradition\, großer Emotionalität und einer meisterlichen Mischung aus traditioneller und zeitgenössischer Technik. In ihren Werken kombinieren sie ihr Wissen über die Kultur ihrer Heimatländer mit ihrer fundierten Kenntnis westlicher Musiktraditionen. Trotzdem sind sie dem breiten Publikum nicht bekannt. Die in der Ukraine geborene Pianistin und Musikpädagogin Margarita Feinstein spielt Werke von Alice Santer\, Jekaterina Tschemberdschi\, Ruth Schonthal\, Ludmila Schuljewa sowie Stücke aus ihrem eigenen Werk. Der Eintritt ist frei. Anmeldung erbeten unter info@gcjz-dortmund.de \n© Margarita Feinstein
URL:https://gcjz-dortmund.de/veranstaltung/konzert-moderne-juedische-komponistinnen/
LOCATION:Sankt Petri\, Petrikirchhof\, Dortmund\, 44137
CATEGORIES:Konzert
ATTACH;FMTTYPE=image/jpeg:https://gcjz-dortmund.de/wp-content/uploads/2025/01/250309-Margarita-Feinstein-Kopie.jpg
END:VEVENT
BEGIN:VEVENT
DTSTART;TZID=Europe/Berlin:20260305T150000
DTEND;TZID=Europe/Berlin:20260305T180000
DTSTAMP:20260419T203816
CREATED:20251028T122612Z
LAST-MODIFIED:20251028T122649Z
UID:2075-1772722800-1772733600@gcjz-dortmund.de
SUMMARY:Antisemitismus in der Schule – Erkennen\, Benennen und Handeln
DESCRIPTION:Ob als Beleidigung\, Witz oder Vorurteil – Antisemitismus ist auch in der Schule ein Problem. Doch nicht immer gelingt es diesen zu erkennen und angemessen darauf zu reagieren. Um Sicherheit im Umgang mit antisemitischen Vorfällen zu erlangen\, benötigt es Wissen über seine Erscheinungsformen\, als auch über konkrete Gegenstrategien. Deshalb werden wir uns im Workshop mit den Funktionen und Merkmalen aktueller Formen von Antisemitismus auseinandersetzen und anhand von Fällen aus dem Schulkontext gelungene Handlungsstrategien diskutieren. Die Fortbildung wird durchgeführt von ADIRA\, der Beratungsstelle für Antidiskriminierungsarbeit bei der Jüdischen Gemeinde Dortmund. \nHinweis: diese Veranstaltung war ursprünglich für den 13. November 2025 geplant und musste aus organisatorischen Gründen verschoben werden. \nTeilnahme kostenfrei. \nAnmeldung: www.schulreferat.de \nLeitung: Ina Annette Bierbrodt \n© ADIRA
URL:https://gcjz-dortmund.de/veranstaltung/antisemitismus-in-der-schule-erkennen-benennen-und-handeln/
LOCATION:Reinoldinum\, Schwanenwall 34\, Dortmund\, 44135
CATEGORIES:Workshop
ATTACH;FMTTYPE=image/jpeg:https://gcjz-dortmund.de/wp-content/uploads/2025/10/251113-ADIRA.jpeg
END:VEVENT
BEGIN:VEVENT
DTSTART;VALUE=DATE:20260313
DTEND;VALUE=DATE:20260510
DTSTAMP:20260419T203816
CREATED:20260311T175615Z
LAST-MODIFIED:20260311T175727Z
UID:2181-1773360000-1778371199@gcjz-dortmund.de
SUMMARY:Woche der Begegnung mit dem Judentum in Hamm
DESCRIPTION:Vor 40 Jahren fand in Hamm die erste „Woche der Brüderlichkeit“ statt. Seit 1985 setzt sich der Arbeitskreis Woche der Brüderlichkeit (Evangelischer Kirchenkreis Hamm\, Katholische Dekanate für Hamm\, Stadt Hamm) in Hamm für ein vertieftes Verständnis des Judentums in Vergangenheit und Gegenwart sowie für die Förderung des christlich-jüdischen Dialogs ein. Mittlerweile wurde der Name der Veranstaltungsreihe geändert in „Woche der Begegnung mit dem Judentum“. Die GCJZ Dortmund e.V. war von Beginn an Mitveranstalterin – herzliche Einladung zur Teilnahme! \n\nFreitag\, 13.3.\, 16.30 Uhr: Kabbalath Shabbat in der Synagoge in Unna\, Treffpunkt: Buderusstraße 11\, 59427 Unna. Anmeldung erforderlich\nSonntag\, 15.3.\, 16-18 Uhr: Kampf gegen Antisemitismus als gesellschaftliche Herausforderung mit Sylvia Löhrmann\, Beauftragte gegen Antisemitismus des Landes NRW im Heinrich-von-Kleist-Forum (Platz der deutschen Einheit 1)\nSonntag\, 15.3.\, 20 Uhr: „Krieg und Frieden“. Chor und Instrumentalmusik in der ThomasKulturKirche (Lohauserholzstr. 18)\nDienstag\, 17.3.\, 18.30 Uhr: Über den Dächern von Jerusalem. Lesung mit Anja Reumschüssel im Heinrich-von-Kleist-Forum (Platz der deutschen Einheit 1)\nMittwoch\, 18.3.\, 17.30 und 19.45 Uhr: Film „Ein einfacher Unfall“. Regie/Buch: Jafar Panahi Iran/FR/LU\, 104 Min.\, im vhs-Kino im Cineplex Hamm (Königstr. 16)\nSamstag\, 9.5.\, 15 Uhr: 800 Jahre Stadt Hamm – 616 Jahre jüdisches Leben in Hamm. Ein Stadtgang auf den Spuren jüdischen Lebens mit Julia Halstenberg\, Wolfgang Komo und Markus Meinold. Treffpunkt: Denkmal für die Synagoge/Santa-Monica-Platz\n\nDas vollständige Programm gibt es hier. \n© Arbeitskreis Woche der Begegnung mit dem Judentum Hamm
URL:https://gcjz-dortmund.de/veranstaltung/woche-der-begegnung-mit-dem-judentum-in-hamm-2/
LOCATION:Hamm
CATEGORIES:Veranstaltungsreihe
ATTACH;FMTTYPE=image/png:https://gcjz-dortmund.de/wp-content/uploads/2025/02/Bildschirmfoto-2025-02-24-um-10.29.04.png
END:VEVENT
BEGIN:VEVENT
DTSTART;TZID=Europe/Berlin:20260315T170000
DTEND;TZID=Europe/Berlin:20260315T200000
DTSTAMP:20260419T203816
CREATED:20260105T160921Z
LAST-MODIFIED:20260105T161010Z
UID:2137-1773594000-1773604800@gcjz-dortmund.de
SUMMARY:Interreligiöses Frauenmahl
DESCRIPTION:Bereits zum sechsten Mal treffen sich Frauen im Fastenmonat Ramadan zum Reden\, Hören und zum gemeinsamen Mahl nach Sonnenuntergang. In unruhigen Zeiten\, die geprägt sind von Terror\, Hass und Krieg\, finden wir es umso wichtiger\, uns über die Grenzen von Religionen und Kulturen hinweg miteinander über Gedanken des Friedens auszutauschen und gemeinsam zu essen. Alle interessierten Frauen sind herzlich eingeladen! Einlass ab 17 Uhr. Der Eintritt ist frei\, ein Kostenbeitrag ist erwünscht. Anmeldung erforderlich unter: gleichstellungsbuero@stadtdo.de \n© Veranstalter
URL:https://gcjz-dortmund.de/veranstaltung/interreligioeses-frauenmahl-3/
LOCATION:Ev. Gemeindehaus Wellinghofen\, Overgünne 3-5\, Dortmund\, 44265\, Germany
CATEGORIES:Frauenmahl
ATTACH;FMTTYPE=image/jpeg:https://gcjz-dortmund.de/wp-content/uploads/2026/01/260315-Frauenmahl-scaled.jpg
END:VEVENT
BEGIN:VEVENT
DTSTART;TZID=Europe/Berlin:20260319T180000
DTEND;TZID=Europe/Berlin:20260319T193000
DTSTAMP:20260419T203816
CREATED:20260311T173812Z
LAST-MODIFIED:20260311T174912Z
UID:2175-1773943200-1773948600@gcjz-dortmund.de
SUMMARY:Hallelujah & Schalom – Eine Verneigung vor Leonard Cohen
DESCRIPTION:Leonard Cohen (1934-2016) schrieb über Liebe und Sehnsucht\, Zweifel und Glauben\, Freiheit und Vergänglichkeit. Unter dem Titel „Hallelujah & schalom“ nähern sich Lutz Debus (Gesang\, Gitarre) und Holger Jenrich (Texte) Leben und Werk des kanadischen Poeten. Ein Abend zwischen Konzert und Erzählug\, zwischen Melancholie und Hoffnung\, zwischen Himmel und Erde. Eine musikalisch-literarische Verneigung vor Leonard Cohen. \n\nEintritt: 15 Euro. Für Mitglieder der Jüdischen Gemeinde und der GCJZ: 10 Euro. Anmeldung unter 0231-55747214 oder konzert@jg-dortmund.de – bitte Personalausweis mitbringen.
URL:https://gcjz-dortmund.de/veranstaltung/hallelujah-schalom-eine-verneigung-vor-leonard-cohen/
LOCATION:Jüdische Kultusgemeinde\, Prinz-Friedrich-Karl-Str. 9\, Dortmund\, 44135
CATEGORIES:Konzert
ATTACH;FMTTYPE=image/jpeg:https://gcjz-dortmund.de/wp-content/uploads/2026/03/Plakat-19.3.26.jpg
END:VEVENT
END:VCALENDAR