BEGIN:VCALENDAR
VERSION:2.0
PRODID:-//GCJZ - ECPv6.15.20//NONSGML v1.0//EN
CALSCALE:GREGORIAN
METHOD:PUBLISH
X-ORIGINAL-URL:https://gcjz-dortmund.de
X-WR-CALDESC:Veranstaltungen für GCJZ
REFRESH-INTERVAL;VALUE=DURATION:PT1H
X-Robots-Tag:noindex
X-PUBLISHED-TTL:PT1H
BEGIN:VTIMEZONE
TZID:Europe/Berlin
BEGIN:DAYLIGHT
TZOFFSETFROM:+0100
TZOFFSETTO:+0200
TZNAME:CEST
DTSTART:20250330T010000
END:DAYLIGHT
BEGIN:STANDARD
TZOFFSETFROM:+0200
TZOFFSETTO:+0100
TZNAME:CET
DTSTART:20251026T010000
END:STANDARD
BEGIN:DAYLIGHT
TZOFFSETFROM:+0100
TZOFFSETTO:+0200
TZNAME:CEST
DTSTART:20260329T010000
END:DAYLIGHT
BEGIN:STANDARD
TZOFFSETFROM:+0200
TZOFFSETTO:+0100
TZNAME:CET
DTSTART:20261025T010000
END:STANDARD
BEGIN:DAYLIGHT
TZOFFSETFROM:+0100
TZOFFSETTO:+0200
TZNAME:CEST
DTSTART:20270328T010000
END:DAYLIGHT
BEGIN:STANDARD
TZOFFSETFROM:+0200
TZOFFSETTO:+0100
TZNAME:CET
DTSTART:20271031T010000
END:STANDARD
END:VTIMEZONE
BEGIN:VEVENT
DTSTART;TZID=Europe/Berlin:20260701T190000
DTEND;TZID=Europe/Berlin:20260701T204500
DTSTAMP:20260420T024445
CREATED:20260105T160120Z
LAST-MODIFIED:20260414T101308Z
UID:2130-1782932400-1782938700@gcjz-dortmund.de
SUMMARY:Jesus aus Davids Stamm. Die Kirchenfenster von Heilig-Geist aus dem Jahr 1942
DESCRIPTION:Mitten im Bombenkrieg konzipieren Pfarrer Emil Rath\, ein erklärter Gegner des Nationalsozialismus\, und die junge Künstlerin Margarete Franke neue Kirchenfenster für die Heilig-Geist-Kirche in Dortmund. Das letzte Buch des Neuen Testaments\, die Offenbarung des Johannes\, wird in Schrift und Symbolen in Glasmalerei übersetzt. Dabei werden auch Davidsterne verwendet. Vor dem Hintergrund\, dass jüdische Menschen ab 1941 gezwungen waren\, dieses Symbol in der Öffentlichkeit zu tragen\, kann die Verwendung dieses Zeichens in den Kirchenfenstern nur als Bekenntnis zur bleibenden Erwählung Israels gedeutet werden. \nDer Alttestamentler Egbert Ballhorn von der TU Dortmund erläutert das einzigartige Bildprogramm des Fensterzyklus vor dem Hintergrund der biblischen Texte und der jahrhundertelangen Israelvergessenheit der christlichen Kirchen. Der Eintritt ist frei. \n© GCJZ
URL:https://gcjz-dortmund.de/veranstaltung/jesus-aus-davids-stamm-die-kirchenfenster-von-heilig-geist-aus-dem-jahr-1942/
LOCATION:Heilig-Geist-Kirche\, Neuer Graben 162\, Dortmund\, 44137\, Germany
CATEGORIES:Vortrag
ATTACH;FMTTYPE=image/jpeg:https://gcjz-dortmund.de/wp-content/uploads/2026/01/260701-Heilig-Geist_GCJZ-rotated.jpg
END:VEVENT
BEGIN:VEVENT
DTSTART;VALUE=DATE:20260723
DTEND;VALUE=DATE:20260801
DTSTAMP:20260420T024445
CREATED:20251028T121724Z
LAST-MODIFIED:20251201T102853Z
UID:2071-1784764800-1785542399@gcjz-dortmund.de
SUMMARY:Normandie – Uraltes Kulturland. Geschichte – Kultur – Religion
DESCRIPTION:Nach dem Besuch von Reims führt die Fahrt in die Normandie\, den Nordwesten Frankreichs. Im Zweiten Weltkrieg wurde die Küste 1944 zur Landungszone der West-Alliierten („D-Day“). Soldatenfriedhöfe erinnern daran. Die Steilküste bei Ètretat diente Malern als Motiv\, darunter Claude Monet. Der Seerosenteich in seinem Garten in Giverny wurde vielfach von ihm gemalt. Neben bedeutenden Kathedralen (z.B. in Amiens) gibt es auch jüdische Spuren zu entdecken: Unter dem Justizpalast in Rouen wurde das älteste jüdische Bauwerk Frankreichs gefunden\, das sog. „Maison Sublime“ (ca. 1100). Stationen: Reims\, Giverny\, Junièges\, Caen\, Arromanches\, Mont-Saint-Michel\, Honfleur\, Pont de Normandie\, Ètretat\, Rouen\, Amiens. \nProgramm und Informationen bei Gerda E.H. Koch (02361-655462) / koch@kinderlehrhaus.de). \nLeitung: Gerda E.H. Koch\, Reiseveranstalter: ECC-Studienreisen\, Frankfurt a.M. \nPreis: 1.895 Euro (EZ-Zuschlag 360 Euro) \nAnmeldeschluss: 30. März 2026 \nFoto: Rouen © Pixabay
URL:https://gcjz-dortmund.de/veranstaltung/normandie-uraltes-kulturland-geschichte-kultur-religion/
LOCATION:Reise
CATEGORIES:Studienreise
ATTACH;FMTTYPE=image/jpeg:https://gcjz-dortmund.de/wp-content/uploads/2025/10/rouen-2820168_1280.jpg
END:VEVENT
END:VCALENDAR