BEGIN:VCALENDAR
VERSION:2.0
PRODID:-//GCJZ - ECPv6.15.20//NONSGML v1.0//EN
CALSCALE:GREGORIAN
METHOD:PUBLISH
X-ORIGINAL-URL:https://gcjz-dortmund.de
X-WR-CALDESC:Veranstaltungen für GCJZ
REFRESH-INTERVAL;VALUE=DURATION:PT1H
X-Robots-Tag:noindex
X-PUBLISHED-TTL:PT1H
BEGIN:VTIMEZONE
TZID:Europe/Berlin
BEGIN:DAYLIGHT
TZOFFSETFROM:+0100
TZOFFSETTO:+0200
TZNAME:CEST
DTSTART:20250330T010000
END:DAYLIGHT
BEGIN:STANDARD
TZOFFSETFROM:+0200
TZOFFSETTO:+0100
TZNAME:CET
DTSTART:20251026T010000
END:STANDARD
BEGIN:DAYLIGHT
TZOFFSETFROM:+0100
TZOFFSETTO:+0200
TZNAME:CEST
DTSTART:20260329T010000
END:DAYLIGHT
BEGIN:STANDARD
TZOFFSETFROM:+0200
TZOFFSETTO:+0100
TZNAME:CET
DTSTART:20261025T010000
END:STANDARD
BEGIN:DAYLIGHT
TZOFFSETFROM:+0100
TZOFFSETTO:+0200
TZNAME:CEST
DTSTART:20270328T010000
END:DAYLIGHT
BEGIN:STANDARD
TZOFFSETFROM:+0200
TZOFFSETTO:+0100
TZNAME:CET
DTSTART:20271031T010000
END:STANDARD
END:VTIMEZONE
BEGIN:VEVENT
DTSTART;VALUE=DATE:20260313
DTEND;VALUE=DATE:20260510
DTSTAMP:20260419T185627
CREATED:20260311T175615Z
LAST-MODIFIED:20260311T175727Z
UID:2181-1773360000-1778371199@gcjz-dortmund.de
SUMMARY:Woche der Begegnung mit dem Judentum in Hamm
DESCRIPTION:Vor 40 Jahren fand in Hamm die erste „Woche der Brüderlichkeit“ statt. Seit 1985 setzt sich der Arbeitskreis Woche der Brüderlichkeit (Evangelischer Kirchenkreis Hamm\, Katholische Dekanate für Hamm\, Stadt Hamm) in Hamm für ein vertieftes Verständnis des Judentums in Vergangenheit und Gegenwart sowie für die Förderung des christlich-jüdischen Dialogs ein. Mittlerweile wurde der Name der Veranstaltungsreihe geändert in „Woche der Begegnung mit dem Judentum“. Die GCJZ Dortmund e.V. war von Beginn an Mitveranstalterin – herzliche Einladung zur Teilnahme! \n\nFreitag\, 13.3.\, 16.30 Uhr: Kabbalath Shabbat in der Synagoge in Unna\, Treffpunkt: Buderusstraße 11\, 59427 Unna. Anmeldung erforderlich\nSonntag\, 15.3.\, 16-18 Uhr: Kampf gegen Antisemitismus als gesellschaftliche Herausforderung mit Sylvia Löhrmann\, Beauftragte gegen Antisemitismus des Landes NRW im Heinrich-von-Kleist-Forum (Platz der deutschen Einheit 1)\nSonntag\, 15.3.\, 20 Uhr: „Krieg und Frieden“. Chor und Instrumentalmusik in der ThomasKulturKirche (Lohauserholzstr. 18)\nDienstag\, 17.3.\, 18.30 Uhr: Über den Dächern von Jerusalem. Lesung mit Anja Reumschüssel im Heinrich-von-Kleist-Forum (Platz der deutschen Einheit 1)\nMittwoch\, 18.3.\, 17.30 und 19.45 Uhr: Film „Ein einfacher Unfall“. Regie/Buch: Jafar Panahi Iran/FR/LU\, 104 Min.\, im vhs-Kino im Cineplex Hamm (Königstr. 16)\nSamstag\, 9.5.\, 15 Uhr: 800 Jahre Stadt Hamm – 616 Jahre jüdisches Leben in Hamm. Ein Stadtgang auf den Spuren jüdischen Lebens mit Julia Halstenberg\, Wolfgang Komo und Markus Meinold. Treffpunkt: Denkmal für die Synagoge/Santa-Monica-Platz\n\nDas vollständige Programm gibt es hier. \n© Arbeitskreis Woche der Begegnung mit dem Judentum Hamm
URL:https://gcjz-dortmund.de/veranstaltung/woche-der-begegnung-mit-dem-judentum-in-hamm-2/
LOCATION:Hamm
CATEGORIES:Veranstaltungsreihe
ATTACH;FMTTYPE=image/png:https://gcjz-dortmund.de/wp-content/uploads/2025/02/Bildschirmfoto-2025-02-24-um-10.29.04.png
END:VEVENT
BEGIN:VEVENT
DTSTART;TZID=Europe/Berlin:20260419T180000
DTEND;TZID=Europe/Berlin:20260419T193000
DTSTAMP:20260419T185627
CREATED:20260311T174258Z
LAST-MODIFIED:20260311T174944Z
UID:2178-1776621600-1776627000@gcjz-dortmund.de
SUMMARY:Best of 25 Years of Dobranotch
DESCRIPTION:Das Klezmer-Ensemble Dobranotch aus St. Petersburg wurde 1998 in Frankreich gegründet und ist seit 2023 in Deutschland beheimatet. Im Laufe ihrer 25-jährigen Geschichte tourte die Gruppe durch mehr als zwanzig Länder auf der ganzen Welt und nahm 10 Alben auf. Das Repertoire der Gruppe umfasst jüdische Lieder auf Russisch\, Yiddisch\, Hebräisch\, aschkenasissche Freyllakhs und chassidische Nigunim. \n\nEintritt: 15 Euro. Für Mitglieder der Jüdischen Gemeinde und der GCJZ: 10 Euro. Anmeldung unter 0231-55747214 oder konzert@jg-dortmund.de – bitte Personalausweis mitbringen.
URL:https://gcjz-dortmund.de/veranstaltung/best-of-25-years-of-dobranotch/
LOCATION:Jüdische Kultusgemeinde\, Prinz-Friedrich-Karl-Str. 9\, Dortmund\, 44135
CATEGORIES:Konzert
ATTACH;FMTTYPE=image/jpeg:https://gcjz-dortmund.de/wp-content/uploads/2026/03/dobranoch_19.04-scaled.jpg
END:VEVENT
BEGIN:VEVENT
DTSTART;TZID=Europe/Berlin:20260422T160000
DTEND;TZID=Europe/Berlin:20260422T173000
DTSTAMP:20260419T185627
CREATED:20260105T155324Z
LAST-MODIFIED:20260126T110952Z
UID:2125-1776873600-1776879000@gcjz-dortmund.de
SUMMARY:Rundgang Jüdisches Dortmund
DESCRIPTION:Die StadtPilgerTour nimmt in Kooperation mit der GCJZ sowohl die Geschichte jüdischen Lebens in Dortmund in den Blick als auch jüdisches Leben heute. Dabei sind Jüdinnen und Juden in ihrem Alltag weiterhin antisemitischen Anfeindungen ausgesetzt. Am Entstehen des Antisemitismus wiederum hatten die Kirchen einen großen Anteil. Es soll daher auch darum gehen\, christliche antijüdische Denktraditionen zu hinterfragen und zu schauen\, was wir dem entgegensetzen können. Der Rundgang beginnt an der Ev. Stadtkirche Sankt Petri und endet nach etwa 1\,5 h an der Kaiserstraße. \nRuth Nientiedt ist Geschäftsführerin der GCJZ Dortmund e.V. und Wissenschaftliche Mitarbeiterin am Alt-Katholischen Seminar der Universität Bonn. Die Teilnahme ist kostenfrei. \nAnmeldung: 0231-22962-401 / bildungswerk@ekkdo.de / www.bwdo.de (Veranstaltung E261-C005) \n© privat
URL:https://gcjz-dortmund.de/veranstaltung/rundgang-juedisches-dortmund-2/
LOCATION:Sankt Petri\, Petrikirchhof\, Dortmund\, 44137
CATEGORIES:Rundgang
ATTACH;FMTTYPE=image/jpeg:https://gcjz-dortmund.de/wp-content/uploads/2023/07/Nientiedt-Kopie-scaled.jpeg
END:VEVENT
BEGIN:VEVENT
DTSTART;VALUE=DATE:20260428
DTEND;VALUE=DATE:20260501
DTSTAMP:20260419T185627
CREATED:20260105T154740Z
LAST-MODIFIED:20260105T154740Z
UID:2123-1777334400-1777593599@gcjz-dortmund.de
SUMMARY:Jüdische Lieder zu Essen und Getränken
DESCRIPTION:In diesem Lieder-Workshop entdecken und singen wir jüdische Lieder rund ums Essen und Trinken – von fröhlichen Trinkliedern über festliche Feiertagslieder bis zu oft fröhlichen Kinder- und Volksliedern. Wir tauchen ein in die Welt traditionsreicher Speisen (wie gefilter Fisch\, Mazze\, Apfel mit Honig\, Kartoffelpuffer) und ihre Bedeutungen innerhalb des Judentums. Zusammen mit historisch-kulturellen Hintergründen bringen wir die Melodien in hebräischer\, jiddischer und englischer Sprache zum Klingen. \nInstrumente sind herzlich willkommen! Bitte geben Sie bei Ihrer Anmeldung an\, ob und welches Instrument Sie mitbringen. Vorkenntnisse sind nicht erforderlich\, nur Freude am Singen und Musizieren! \nPreis Unterkunft / Verpflegung: 293\,50 Euro VP \nEZ-Zuschlag: 20 Euro \nKursgebühr: 86\,50 Euro \nWeitere Informationen und Anmeldung unter www.kircheundgesellschaft.de oder bei Ulrike Pietsch (02304 755 325 oder unter ulrike.pietsch@kircheundgesellschaft.de). \n© Thomas Beer
URL:https://gcjz-dortmund.de/veranstaltung/juedische-lieder-zu-essen-und-getraenken/
LOCATION:Haus Villigst\, Iserlohnerstr. 25\, Schwerte\, 58239
CATEGORIES:Workshop
ATTACH;FMTTYPE=image/jpeg:https://gcjz-dortmund.de/wp-content/uploads/2024/01/23.-25.4.23-Kempin_Rechte-Thomas-Beer.jpg
END:VEVENT
END:VCALENDAR